BEGIN:VCALENDAR
VERSION:2.0
PRODID:-//MHA Recovery - ECPv6.15.20//NONSGML v1.0//EN
CALSCALE:GREGORIAN
METHOD:PUBLISH
X-WR-CALNAME:MHA Recovery
X-ORIGINAL-URL:https://www.mharecovery.com
X-WR-CALDESC:Events for MHA Recovery
REFRESH-INTERVAL;VALUE=DURATION:PT1H
X-Robots-Tag:noindex
X-PUBLISHED-TTL:PT1H
BEGIN:VTIMEZONE
TZID:America/North_Dakota/Beulah
BEGIN:DAYLIGHT
TZOFFSETFROM:-0600
TZOFFSETTO:-0500
TZNAME:CDT
DTSTART:20240310T080000
END:DAYLIGHT
BEGIN:STANDARD
TZOFFSETFROM:-0500
TZOFFSETTO:-0600
TZNAME:CST
DTSTART:20241103T070000
END:STANDARD
BEGIN:DAYLIGHT
TZOFFSETFROM:-0600
TZOFFSETTO:-0500
TZNAME:CDT
DTSTART:20250309T080000
END:DAYLIGHT
BEGIN:STANDARD
TZOFFSETFROM:-0500
TZOFFSETTO:-0600
TZNAME:CST
DTSTART:20251102T070000
END:STANDARD
BEGIN:DAYLIGHT
TZOFFSETFROM:-0600
TZOFFSETTO:-0500
TZNAME:CDT
DTSTART:20260308T080000
END:DAYLIGHT
BEGIN:STANDARD
TZOFFSETFROM:-0500
TZOFFSETTO:-0600
TZNAME:CST
DTSTART:20261101T070000
END:STANDARD
END:VTIMEZONE
BEGIN:VEVENT
DTSTART;TZID=America/North_Dakota/Beulah:20251128T100000
DTEND;TZID=America/North_Dakota/Beulah:20251128T150000
DTSTAMP:20260422T084244
CREATED:20251024T142556Z
LAST-MODIFIED:20251024T142556Z
UID:231214-1764324000-1764342000@www.mharecovery.com
SUMMARY:Families in Recovery Fall Gathering – Join Us for a Day of Healing\, Connection & Celebration
DESCRIPTION:As the seasons change and we embrace the beauty of fall\, we come together to support\, uplift\, and walk alongside one another on the recovery journey. The MHA Pathways Recovery Team is honored to host a special community event designed to bring families\, individuals\, and loved ones closer as we continue healing together. \nWe invite you to the Families in Recovery Fall Gathering on: \n📅 November 28th⏰ 10:00 AM – 3:00 PM📍 Ralph Wells Jr. Community Center | White Shield\, ND \nThis gathering is a time to celebrate progress\, strengthen support systems\, and encourage one another with food\, fellowship\, and shared experiences. Recovery is not just an individual path—it’s a journey that touches families\, friends\, and entire communities. When we come together\, lift each other up\, and offer compassion\, we grow stronger. \n\nJoin Us\nBring your family\, bring your friends\, or simply bring yourself.There is a place for you at this table. \nPresented By:MHA Pathways Recovery Team \nFor questions or more information:📞 Call Morgan Birds Bill at 701-421-3025
URL:https://www.mharecovery.com/event/families-in-recovery-fall-gathering-join-us-for-a-day-of-healing-connection-celebration/
LOCATION:ND
ATTACH;FMTTYPE=image/jpeg:https://www.mharecovery.com/wp-content/uploads/2025/10/recovery-fall-gathering-web.jpeg
END:VEVENT
BEGIN:VEVENT
DTSTART;VALUE=DATE:20250626
DTEND;VALUE=DATE:20250627
DTSTAMP:20260422T084244
CREATED:20250429T171155Z
LAST-MODIFIED:20250429T171155Z
UID:231210-1750896000-1750982399@www.mharecovery.com
SUMMARY:Second Annual Summer Bash
DESCRIPTION:Second Annual Summer Bash\nDate: June 26th\, 2025 \nLocation: Four Bears Park – Point \nHosted by: \n\nPOC Team\nYouth Coalition\nNative Connections\nFour Bears\n\nEvent Lineup:\n\nVolleyball Tournament\nBasketball Tournament\nCorn Hole\nDoor Prizes\nFishing\nDiabetes Walk\nPresenters\nLots of Food\n\nSpecial Segment – Make Your Mark\nHonoring Mark Skibsrud\, talk about the impact he made in people’s lives. \nBike giveaway in his memory. \nContact Info:\n📞 More info: 701-421-3312
URL:https://www.mharecovery.com/event/second-annual-summer-bash/
LOCATION:ND
ATTACH;FMTTYPE=image/png:https://www.mharecovery.com/wp-content/uploads/2025/04/Summer-Bash-2025-flyer-s.png
END:VEVENT
BEGIN:VEVENT
DTSTART;TZID=America/North_Dakota/Beulah:20250522T000000
DTEND;TZID=America/North_Dakota/Beulah:20250524T000000
DTSTAMP:20260422T084244
CREATED:20250404T151321Z
LAST-MODIFIED:20250428T194558Z
UID:231203-1747872000-1748044800@www.mharecovery.com
SUMMARY:Recovery on the Plains
DESCRIPTION:From May 22–24\, 2025\, Bismarck will host Recovery on the Plains 2025—a powerful gathering focused on sobriety\, community\, and support. Held at the Bismarck Event Center (Hall A)\, this three-day event brings together individuals from across the country to share stories of recovery\, healing\, and transformation.
URL:https://www.mharecovery.com/event/recovery-on-the-plains/
LOCATION:Bismarck Event Center\, 315 S 5th St\, Bismarck\, ND\, 58504\, United States
ATTACH;FMTTYPE=image/jpeg:https://www.mharecovery.com/wp-content/uploads/2025/04/recovery-on-plains-v2.jpeg
END:VEVENT
BEGIN:VEVENT
DTSTART;TZID=America/North_Dakota/Beulah:20250517T110000
DTEND;TZID=America/North_Dakota/Beulah:20250517T170000
DTSTAMP:20260422T084244
CREATED:20250212T191512Z
LAST-MODIFIED:20250212T191526Z
UID:231178-1747479600-1747501200@www.mharecovery.com
SUMMARY:2nd Annual Spring Recovery Jam
DESCRIPTION:Join us for the 2nd Annual Spring Recovery Jam on May 17\, 2025\, from 11 AM to 5 PM at the Bismarck Veterans Memorial Library!
URL:https://www.mharecovery.com/event/2nd-annual-spring-recovery-jam/
LOCATION:ND
ATTACH;FMTTYPE=image/jpeg:https://www.mharecovery.com/wp-content/uploads/2025/02/spring-recovery-jam-2025.jpg
END:VEVENT
BEGIN:VEVENT
DTSTART;TZID=America/North_Dakota/Beulah:20250430T180000
DTEND;TZID=America/North_Dakota/Beulah:20250430T210000
DTSTAMP:20260422T084244
CREATED:20250402T210621Z
LAST-MODIFIED:20250402T210621Z
UID:231199-1746036000-1746046800@www.mharecovery.com
SUMMARY:Alcohol Awareness Month - Sobriety Stories
DESCRIPTION:
URL:https://www.mharecovery.com/event/alcohol-awareness-month-sobriety-stories-4/
LOCATION:Native Inc.\, 2403 E Thayer Ave\, Bismarck\, ND\, 58501\, United States
ATTACH;FMTTYPE=image/jpeg:https://www.mharecovery.com/wp-content/uploads/2025/04/Alcohol-Awareness-Month-2025-small.jpeg
END:VEVENT
BEGIN:VEVENT
DTSTART;TZID=America/North_Dakota/Beulah:20250423T180000
DTEND;TZID=America/North_Dakota/Beulah:20250423T200000
DTSTAMP:20260422T084244
CREATED:20250402T210558Z
LAST-MODIFIED:20250402T210558Z
UID:231197-1745431200-1745438400@www.mharecovery.com
SUMMARY:Alcohol Awareness Month - Sobriety Stories
DESCRIPTION:
URL:https://www.mharecovery.com/event/alcohol-awareness-month-sobriety-stories-3/
LOCATION:Native Inc.\, 2403 E Thayer Ave\, Bismarck\, ND\, 58501\, United States
ATTACH;FMTTYPE=image/jpeg:https://www.mharecovery.com/wp-content/uploads/2025/04/Alcohol-Awareness-Month-2025-small.jpeg
END:VEVENT
BEGIN:VEVENT
DTSTART;TZID=America/North_Dakota/Beulah:20250416T180000
DTEND;TZID=America/North_Dakota/Beulah:20250416T200000
DTSTAMP:20260422T084244
CREATED:20250402T210523Z
LAST-MODIFIED:20250402T210523Z
UID:231195-1744826400-1744833600@www.mharecovery.com
SUMMARY:Alcohol Awareness Month - Sobriety Stories
DESCRIPTION:
URL:https://www.mharecovery.com/event/alcohol-awareness-month-sobriety-stories-2/
LOCATION:Native Inc.\, 2403 E Thayer Ave\, Bismarck\, ND\, 58501\, United States
ATTACH;FMTTYPE=image/jpeg:https://www.mharecovery.com/wp-content/uploads/2025/04/Alcohol-Awareness-Month-2025-small.jpeg
END:VEVENT
BEGIN:VEVENT
DTSTART;TZID=America/North_Dakota/Beulah:20250409T173000
DTEND;TZID=America/North_Dakota/Beulah:20250409T200000
DTSTAMP:20260422T084244
CREATED:20250402T210111Z
LAST-MODIFIED:20250402T210318Z
UID:231188-1744219800-1744228800@www.mharecovery.com
SUMMARY:Alcohol Awareness Month - Sobriety Stories
DESCRIPTION:
URL:https://www.mharecovery.com/event/alcohol-awareness-month-sobriety-stories/
LOCATION:Native Inc.\, 2403 E Thayer Ave\, Bismarck\, ND\, 58501\, United States
ATTACH;FMTTYPE=image/jpeg:https://www.mharecovery.com/wp-content/uploads/2025/04/Alcohol-Awareness-Month-2025-small.jpeg
END:VEVENT
END:VCALENDAR